BEGIN:VCALENDAR
VERSION:2.0
PRODID:icalendar-ruby
CALSCALE:GREGORIAN
BEGIN:VEVENT
DTSTAMP:20191221T122052Z
UID:b77b983c-8592-47f3-87af-74460cbba57d
DTSTART:20191205T003000Z
DTEND:20191205T040001Z
DESCRIPTION:
LOCATION:Sancta Maria Catholic Primary School
SUMMARY:WSL Get Together 
URL:
END:VEVENT
END:VCALENDAR
